BEGIN:VCALENDAR
VERSION:2.0
PRODID:-//Winston-Salem Symphony - ECPv6.15.20//NONSGML v1.0//EN
CALSCALE:GREGORIAN
METHOD:PUBLISH
X-WR-CALNAME:Winston-Salem Symphony
X-ORIGINAL-URL:https://www.wssymphony.org
X-WR-CALDESC:Events for Winston-Salem Symphony
REFRESH-INTERVAL;VALUE=DURATION:PT1H
X-Robots-Tag:noindex
X-PUBLISHED-TTL:PT1H
BEGIN:VTIMEZONE
TZID:America/New_York
BEGIN:DAYLIGHT
TZOFFSETFROM:-0500
TZOFFSETTO:-0400
TZNAME:EDT
DTSTART:20230312T070000
END:DAYLIGHT
BEGIN:STANDARD
TZOFFSETFROM:-0400
TZOFFSETTO:-0500
TZNAME:EST
DTSTART:20231105T060000
END:STANDARD
BEGIN:DAYLIGHT
TZOFFSETFROM:-0500
TZOFFSETTO:-0400
TZNAME:EDT
DTSTART:20240310T070000
END:DAYLIGHT
BEGIN:STANDARD
TZOFFSETFROM:-0400
TZOFFSETTO:-0500
TZNAME:EST
DTSTART:20241103T060000
END:STANDARD
BEGIN:DAYLIGHT
TZOFFSETFROM:-0500
TZOFFSETTO:-0400
TZNAME:EDT
DTSTART:20250309T070000
END:DAYLIGHT
BEGIN:STANDARD
TZOFFSETFROM:-0400
TZOFFSETTO:-0500
TZNAME:EST
DTSTART:20251102T060000
END:STANDARD
BEGIN:DAYLIGHT
TZOFFSETFROM:-0500
TZOFFSETTO:-0400
TZNAME:EDT
DTSTART:20260308T070000
END:DAYLIGHT
BEGIN:STANDARD
TZOFFSETFROM:-0400
TZOFFSETTO:-0500
TZNAME:EST
DTSTART:20261101T060000
END:STANDARD
BEGIN:DAYLIGHT
TZOFFSETFROM:-0500
TZOFFSETTO:-0400
TZNAME:EDT
DTSTART:20270314T070000
END:DAYLIGHT
BEGIN:STANDARD
TZOFFSETFROM:-0400
TZOFFSETTO:-0500
TZNAME:EST
DTSTART:20271107T060000
END:STANDARD
END:VTIMEZONE
BEGIN:VEVENT
DTSTART;TZID=America/New_York:20260328T150000
DTEND;TZID=America/New_York:20260328T173000
DTSTAMP:20260423T024202
CREATED:20251103T213820Z
LAST-MODIFIED:20260311T194113Z
UID:10000171-1774710000-1774719000@www.wssymphony.org
SUMMARY:Concert for Community
DESCRIPTION:Concert for Community\n\n\n\n\n\n\n Free!\n\n\n\n\n\n\nSaturdayMar 28\, 20263:00p \n\n\n\n\n\n\n\n\n\n\n\n\n\nWinston-Salem SymphonyWSS Youth SymphonyLouis Gao Piano (PPYTS Jr. Division Winner)Natália Siqueira Biasotto Violin (PPYTS Sr. Division Winner)J. Aaron Hardwick & Margaret Rehder Conductors \n\n\n\nOur annual\, admission-free showcase features a large orchestra led by Youth Symphony members paired with their professional counterparts in the Winston-Salem Symphony\, plus exciting concerto performances by the winners of this year’s Peter Perret Youth Talent Search. It is a wonderful\, early-spring family experience not to be missed! \n\n\n\nJasil Olabode  Losing GroundW.A. Mozart  Piano Concerto No. 22 in E-flat Major\, K. 482Camille Saint-Saëns  Introduction and Rondo Capriccioso\, Op. 28 \n\n\n\n—Intermission— \n\n\n\nR. Strauss Fanfare/Sunrise from Also sprach ZarathustraJ. Strauss\, Jr. On the Beautiful Blue DanubeGustav Holst Excerpts from The Planets 1. Mars 2. Venus 4. Jupiter \n\n\n\n\n\nAdmission is free but tickets are required. The performance is expected to last one hour and 40 minutes with one 15-minute intermission. \n\n\n\n\n\nThis concert is made possible through a generous contribution from the Montgomery/Tucker Charitable Fund. \n\n\n\n\n\n\n\n\n\n\n\n\n\n\n\n\n\n\n\n\n\n\n\n\n\n\n\n\n\nSaturdayMar 283:00 PM \n\n\n\n\n\n\n\n\n\n\n\n\n\n\n\n\n\n\n\n\n\nVenue\n\n\n\nWait ChapelWake Forest UniversityWinston-Salem\, NC \n\n\n\n\nDirections and Parking\n\n\n\n\n\n\n\n\n\n\n\n\n\nRideshare and Dining\n\n\n\n\n\n\n\n\n\n\n\n\n\n\n\n\n\n\n\n\n\n\n\n\n\n\n\n\n\n\n\n\n\n\n\n\n\n\n\n\n\n\n\n\n\n\n\n\n\n\nLouis Gao Piano\n\n\n\nLouis Gao\, a seventh grader from Charlotte\, NC\, has been studying the piano with Florence Ko. \n\n\n\nOver the last three years\, he has won a number of competition awards\, including first place in the G. Henle Verlag piano competition and a silver medal at the Bach Festival Piano Competition. In 2024\, he was named the state winner of both the Maxine Taylor Fountain Memorial Award in the NCFMC Scholarship Competition and the Royalty NC State Piano Scholarship. In 2025\, he won the RPTA Young Artist Audition as well as the Elizabeth Bullard Competition\, and was recognized as the MTNA (Music Teachers National Association） Junior Performance Division State Winner. This year\, his winning ways continued as he won the Wingate Piano Competition in January. \n\n\n\nIn addition to being a violinist in his school’s orchestra\, Louis enjoys drawing and playing tennis in his spare time. \n\n\n\n\n\n\n\n\n\n\n\n\n\n\n\n\n\nNatália Siqueira Biasotto Violin\n\n\n\n15-year-old Natalia Siquera Biasotto started violin lessons at the age of 3. She began participating in the school orchestra at 6\, the youngest student in that youth ensemble\, while living in Brazil. At the age of 9\, she began lessons with Cecilia Guida\, whom she has studied with. Recently\, she also started lessons with Alex Kerr. \n\n\n\nAt the age of 10\, Natalia was invited to play as a soloist with a professional orchestra in Brazil by Maestro Fernando Ortiz (Orquestra Sinfônica Municipal de Botucatu)\, which was a very special and challenging opportunity at that young age. In the last years\, she was a finalist of the Hilton Head Island Orchestra Youth Concerto Competition (2026)\, alternate winner of Chapel Hill Philharmonia Young Concerto Competition (2025)\, first place in the Student Music Contest\, Woman’s Club of Raleigh (violin and all-instruments) (2024)\, and received the following chamber music awards: NCCMI Outstanding Artistry and Chamber Music Excellence and Teamwork (2023\, 2024\, 2025)\, and NC Federation of Music Clubs Piano Chamber Award (2025) and Joel Adams String Quartet Award (2024). Last year\, she was also recognized with an Honorable Mention by the Peter Perret Youth Talent Search at UNCSA. \n\n\n\nCurrently\, besides solo and chamber music preparation\, she has been an intern at NCCMI during the 2025-2026 school year\, with a primary role as a peer mentor for other ensembles. She is also currently the Associate Concertmaster of the Triangle Youth Philharmonic\, the top youth orchestra of Triangle Youth Music in Raleigh\, NC. \n\n\n\n\n\n\n\n\n\n\n\n\n\n\n\n\n\nJasil Olabode Composer\n\n\n\nA piece from Winston-Salem composer Jasil Olabode (UNCSA) entitled Losing Ground will open the Concert for Community.
URL:https://www.wssymphony.org/event/concert-for-community/
LOCATION:Wait Chapel\, 2625 Wake Forest Rd.\, Winston-Salem\, NC\, 27106
CATEGORIES:Special Concerts,Youth Orchestras
ATTACH;FMTTYPE=image/webp:https://www.wssymphony.org/wp-content/uploads/2021/08/022_20230218-DSC09408_JFarleyPhotography-EDIT-SQUARE.webp
GEO:36.1353994;-80.2797555
X-APPLE-STRUCTURED-LOCATION;VALUE=URI;X-ADDRESS=Wait Chapel 2625 Wake Forest Rd. Winston-Salem NC 27106;X-APPLE-RADIUS=500;X-TITLE=2625 Wake Forest Rd.:geo:-80.2797555,36.1353994
END:VEVENT
BEGIN:VEVENT
DTSTART;TZID=America/New_York:20260302T190000
DTEND;TZID=America/New_York:20260302T213000
DTSTAMP:20260423T024202
CREATED:20251103T211707Z
LAST-MODIFIED:20260226T172648Z
UID:10000169-1772478000-1772487000@www.wssymphony.org
SUMMARY:Midyear Concert
DESCRIPTION:Youth Orchestras:Midyear Concert\n\n\n\n\n\n\n\nFree! \n\n\n\n\n\nMonday\, Mar 27:00 PM \n\n\n\n\n\n\n\n\n\n\n\n\n\n\n\n\n\nHear a late-winter concert featuring three of the Youth Orchestras Program’s talented ensembles in music by Newbold\, Nishimura\, Bach\, Brahms\, Tchaikovsky\, and more—absolutely free\, great for families and kids!  \n\n\n\nYouth PhilharmonicChamber SinfoniaPremiere Strings \n\n\n\nMargaret Rehder and Dr. Ryane Dunnagan Conductors \n\n\n\n\n\n\n\n\n\nVenue\n\n\n\nReynolds Auditorium301 N. Hawthorne Rd.Winston-Salem\, NC 27101 \n\n\n\n\nDirections & Parking\n\n\n\n\n\n\n\n\n\n\n\n\n\nRideshare and Dining
URL:https://www.wssymphony.org/event/midyear-concert/
LOCATION:Reynolds Auditorium\, 301 Hawthorne Rd. NW\, Winston-Salem\, NC\, 27104
CATEGORIES:Youth Orchestras
ATTACH;FMTTYPE=image/jpeg:https://www.wssymphony.org/wp-content/uploads/2023/02/042_20221114-DSC03893_JFarleyPhotography_1200x675@72.jpg
GEO:36.1011236;-80.2648333
X-APPLE-STRUCTURED-LOCATION;VALUE=URI;X-ADDRESS=Reynolds Auditorium 301 Hawthorne Rd. NW Winston-Salem NC 27104;X-APPLE-RADIUS=500;X-TITLE=301 Hawthorne Rd. NW:geo:-80.2648333,36.1011236
END:VEVENT
BEGIN:VEVENT
DTSTART;TZID=America/New_York:20251117T190000
DTEND;TZID=America/New_York:20251117T213000
DTSTAMP:20260423T024202
CREATED:20251103T210424Z
LAST-MODIFIED:20251103T214631Z
UID:10000168-1763406000-1763415000@www.wssymphony.org
SUMMARY:Fall Extravaganza
DESCRIPTION:Youth Orchestras:Fal Extravaganza\n\n\n\n\n\n\n\nFree! \n\n\n\n\n\nMonday\, Nov 177:00 PM \n\n\n\n\n\n\n\n\n\n\n\n\n\n\n\n\n\nHear all four of our talented Youth Orchestras Program ensembles in their premiere concert for the 25/26 season. Enjoy music from Mozart and John Williams to Bach\, Dvorak\, Edvard Grieg\, and even Chuck Mangione! \n\n\n\nYouth SymphonyYouth PhilharmonicChamber SinfoniaPremiere Strings \n\n\n\nMargaret Rehder and Dr. Ryane Dunnagan Conductors \n\n\n\n\n\n\n\n\n\nVenue\n\n\n\nReynolds Auditorium301 N. Hawthorne Rd.Winston-Salem\, NC 27101 \n\n\n\n\nDirections & Parking\n\n\n\n\n\n\n\n\n\n\n\n\n\nRideshare and Dining
URL:https://www.wssymphony.org/event/fall-extravaganza/
LOCATION:Reynolds Auditorium\, 301 Hawthorne Rd. NW\, Winston-Salem\, NC\, 27104
CATEGORIES:Youth Orchestras
ATTACH;FMTTYPE=image/jpeg:https://www.wssymphony.org/wp-content/uploads/2023/02/042_20221114-DSC03893_JFarleyPhotography_1200x675@72.jpg
GEO:36.1011236;-80.2648333
X-APPLE-STRUCTURED-LOCATION;VALUE=URI;X-ADDRESS=Reynolds Auditorium 301 Hawthorne Rd. NW Winston-Salem NC 27104;X-APPLE-RADIUS=500;X-TITLE=301 Hawthorne Rd. NW:geo:-80.2648333,36.1011236
END:VEVENT
BEGIN:VEVENT
DTSTART;TZID=America/New_York:20250512T190000
DTEND;TZID=America/New_York:20250512T213000
DTSTAMP:20260423T024202
CREATED:20230221T160840Z
LAST-MODIFIED:20250506T203715Z
UID:10000028-1747076400-1747085400@www.wssymphony.org
SUMMARY:Spring Finale
DESCRIPTION:Youth Orchestras:Spring Finale\n\n\n\n\n\n\n\nFree! \n\n\n\n\n\nMonday\, May 127:00 PM \n\n\n\n\n\n\n\n\n\n\n\n\n\n\n\n\n\nHear all four of our talented Youth Orchestras Program ensembles in their year-end concert! \n\n\n\nYouth SymphonyYouth PhilharmonicChamber SinfoniaPremiere Strings \n\n\n\nMargaret Rehder and Dr. Ryane Dunnagan Conductors \n\n\n\n\n\n\n\n\n\nVenue\n\n\n\nReynolds Auditorium301 N. Hawthorne Rd.Winston-Salem\, NC 27101 \n\n\n\n\nDirections & Parking\n\n\n\n\n\n\n\n\n\n\n\n\n\nRideshare and Dining
URL:https://www.wssymphony.org/event/spring-finale/
LOCATION:Reynolds Auditorium\, 301 Hawthorne Rd. NW\, Winston-Salem\, NC\, 27104
CATEGORIES:Youth Orchestras
ATTACH;FMTTYPE=image/jpeg:https://www.wssymphony.org/wp-content/uploads/2023/02/042_20221114-DSC03893_JFarleyPhotography_1200x675@72.jpg
GEO:36.1011236;-80.2648333
X-APPLE-STRUCTURED-LOCATION;VALUE=URI;X-ADDRESS=Reynolds Auditorium 301 Hawthorne Rd. NW Winston-Salem NC 27104;X-APPLE-RADIUS=500;X-TITLE=301 Hawthorne Rd. NW:geo:-80.2648333,36.1011236
END:VEVENT
BEGIN:VEVENT
DTSTART;TZID=America/New_York:20250324T190000
DTEND;TZID=America/New_York:20250324T210000
DTSTAMP:20260423T024202
CREATED:20230221T144519Z
LAST-MODIFIED:20250227T171219Z
UID:10000027-1742842800-1742850000@www.wssymphony.org
SUMMARY:Youth Philharmonic\, Chamber Sinfonia\, and Premiere Strings
DESCRIPTION:Youth Philharmonic\, Chamber Sinfonia\,& Premiere Strings\n\n\n\n\n\nFree ! \n\n\n\n\n\nMondayMar 24\, 20257:00 PM \n\n\n\n\n\n\n\n\n\n\n\n\nThree of our Youth Orchestras Program ensembles perform favorite music by Mozart\, Verdi\, and Tchaikovsky as well as exciting new works written especially for younger players. This springtime concert also features the Youth Philharmonic flutists in a joyful concerto by Vivaldi.  \n\n\n\nYouth PhilharmonicChamber SinfoniaPremiere Strings \n\n\n\nMargaret Rehder and Dr. Ryane Dunnagan Conductors \n\n\n\n\n\n\n\n\n\nVenue\n\n\n\nReynolds Auditorium301 N. Hawthorne Rd.Winston-Salem\, NC 27101 \n\n\n\n\nDirections & Parking\n\n\n\n\n\n\n\n\n\n\n\n\n\nRideshare and Dining
URL:https://www.wssymphony.org/event/youth-philharmonic-chamber-sinfonia-and-premiere-strings/
LOCATION:Reynolds Auditorium\, 301 Hawthorne Rd. NW\, Winston-Salem\, NC\, 27104
CATEGORIES:Youth Orchestras
ATTACH;FMTTYPE=image/jpeg:https://www.wssymphony.org/wp-content/uploads/2023/02/038_20221114-DSC03822_JFarleyPhotography_1200x675@72.jpg
GEO:36.1011236;-80.2648333
X-APPLE-STRUCTURED-LOCATION;VALUE=URI;X-ADDRESS=Reynolds Auditorium 301 Hawthorne Rd. NW Winston-Salem NC 27104;X-APPLE-RADIUS=500;X-TITLE=301 Hawthorne Rd. NW:geo:-80.2648333,36.1011236
END:VEVENT
BEGIN:VEVENT
DTSTART;TZID=America/New_York:20241118T190000
DTEND;TZID=America/New_York:20241118T213000
DTSTAMP:20260423T024202
CREATED:20230821T163601Z
LAST-MODIFIED:20240729T174216Z
UID:10000005-1731956400-1731965400@www.wssymphony.org
SUMMARY:Youth Orchestras Fall Extravaganza
DESCRIPTION:Youth OrchestrasFall Extravaganza\n\n\n\nMonday\, Nov 18\, 20247:00pmAdmission is free. \n\n\n\n\n\n\nAll four ensembles of the WSS Youth Orchestras program get their performance season off to a start in this inspiring autumn concert. \n\n\n\nPremiere StringsChamber SinfoniaYouth PhilharmonicYouth Symphony \n\n\n\nMargaret Rehder and Ryane Dunnagan Conductors \n\n\n\n\n\n\n\n\n\nVenue\n\n\n\nReynolds Auditorium301 N. Hawthorne Rd.Winston-Salem\, NC 27101 \n\n\n\n\nDirections & Parking\n\n\n\n\n\n\n\n\n\n\n\n\n\nRideshare and Dining
URL:https://www.wssymphony.org/event/youth-orchestras-fall-extravaganza/
LOCATION:Reynolds Auditorium\, 301 Hawthorne Rd. NW\, Winston-Salem\, NC\, 27104
CATEGORIES:Youth Orchestras
ATTACH;FMTTYPE=image/jpeg:https://www.wssymphony.org/wp-content/uploads/2022/08/DSC_0045-copy.jpg
GEO:36.1011236;-80.2648333
X-APPLE-STRUCTURED-LOCATION;VALUE=URI;X-ADDRESS=Reynolds Auditorium 301 Hawthorne Rd. NW Winston-Salem NC 27104;X-APPLE-RADIUS=500;X-TITLE=301 Hawthorne Rd. NW:geo:-80.2648333,36.1011236
END:VEVENT
END:VCALENDAR