BEGIN:VCALENDAR
VERSION:2.0
PRODID:-//Winston-Salem Symphony - ECPv6.15.20//NONSGML v1.0//EN
CALSCALE:GREGORIAN
METHOD:PUBLISH
X-WR-CALNAME:Winston-Salem Symphony
X-ORIGINAL-URL:https://www.wssymphony.org
X-WR-CALDESC:Events for Winston-Salem Symphony
REFRESH-INTERVAL;VALUE=DURATION:PT1H
X-Robots-Tag:noindex
X-PUBLISHED-TTL:PT1H
BEGIN:VTIMEZONE
TZID:America/New_York
BEGIN:DAYLIGHT
TZOFFSETFROM:-0500
TZOFFSETTO:-0400
TZNAME:EDT
DTSTART:20250309T070000
END:DAYLIGHT
BEGIN:STANDARD
TZOFFSETFROM:-0400
TZOFFSETTO:-0500
TZNAME:EST
DTSTART:20251102T060000
END:STANDARD
BEGIN:DAYLIGHT
TZOFFSETFROM:-0500
TZOFFSETTO:-0400
TZNAME:EDT
DTSTART:20260308T070000
END:DAYLIGHT
BEGIN:STANDARD
TZOFFSETFROM:-0400
TZOFFSETTO:-0500
TZNAME:EST
DTSTART:20261101T060000
END:STANDARD
BEGIN:DAYLIGHT
TZOFFSETFROM:-0500
TZOFFSETTO:-0400
TZNAME:EDT
DTSTART:20270314T070000
END:DAYLIGHT
BEGIN:STANDARD
TZOFFSETFROM:-0400
TZOFFSETTO:-0500
TZNAME:EST
DTSTART:20271107T060000
END:STANDARD
END:VTIMEZONE
BEGIN:VEVENT
DTSTART;TZID=America/New_York:20260511T190000
DTEND;TZID=America/New_York:20260511T213000
DTSTAMP:20260423T010632
CREATED:20251103T212051Z
LAST-MODIFIED:20260417T153321Z
UID:10000170-1778526000-1778535000@www.wssymphony.org
SUMMARY:Spring Finale
DESCRIPTION:Youth Orchestras:Spring Finale\n\n\n\n\n\n\n\nFree! \n\n\n\n\n\nMonday\, May 117:00 PM \n\n\n\n\n\n\n\n\n\n\n\n\n\n\n\n\n\nHear all four of our talented Youth Orchestras Program ensembles in their 25/26 season Finale! Enjoy the culmination of their hard work in this family-friendly concert. \n\n\n\nYouth SymphonyYouth PhilharmonicChamber SinfoniaPremiere Strings \n\n\n\nMargaret Rehder and Sandra Rathbone Conductors \n\n\n\n\n\n\n\n\n\nVenue\n\n\n\nReynolds Auditorium301 N. Hawthorne Rd.Winston-Salem\, NC 27101 \n\n\n\n\nDirections & Parking\n\n\n\n\n\n\n\n\n\n\n\n\n\nRideshare and Dining
URL:https://www.wssymphony.org/event/spring-finale-2/
LOCATION:Reynolds Auditorium\, 301 Hawthorne Rd. NW\, Winston-Salem\, NC\, 27104
CATEGORIES:Youth Orchestras
ATTACH;FMTTYPE=image/jpeg:https://www.wssymphony.org/wp-content/uploads/2023/02/042_20221114-DSC03893_JFarleyPhotography_1200x675@72.jpg
GEO:36.1011236;-80.2648333
X-APPLE-STRUCTURED-LOCATION;VALUE=URI;X-ADDRESS=Reynolds Auditorium 301 Hawthorne Rd. NW Winston-Salem NC 27104;X-APPLE-RADIUS=500;X-TITLE=301 Hawthorne Rd. NW:geo:-80.2648333,36.1011236
END:VEVENT
END:VCALENDAR