BEGIN:VCALENDAR
VERSION:2.0
PRODID:-//Winston-Salem Symphony - ECPv6.15.20//NONSGML v1.0//EN
CALSCALE:GREGORIAN
METHOD:PUBLISH
X-WR-CALNAME:Winston-Salem Symphony
X-ORIGINAL-URL:https://www.wssymphony.org
X-WR-CALDESC:Events for Winston-Salem Symphony
REFRESH-INTERVAL;VALUE=DURATION:PT1H
X-Robots-Tag:noindex
X-PUBLISHED-TTL:PT1H
BEGIN:VTIMEZONE
TZID:America/New_York
BEGIN:DAYLIGHT
TZOFFSETFROM:-0500
TZOFFSETTO:-0400
TZNAME:EDT
DTSTART:20250309T070000
END:DAYLIGHT
BEGIN:STANDARD
TZOFFSETFROM:-0400
TZOFFSETTO:-0500
TZNAME:EST
DTSTART:20251102T060000
END:STANDARD
BEGIN:DAYLIGHT
TZOFFSETFROM:-0500
TZOFFSETTO:-0400
TZNAME:EDT
DTSTART:20260308T070000
END:DAYLIGHT
BEGIN:STANDARD
TZOFFSETFROM:-0400
TZOFFSETTO:-0500
TZNAME:EST
DTSTART:20261101T060000
END:STANDARD
BEGIN:DAYLIGHT
TZOFFSETFROM:-0500
TZOFFSETTO:-0400
TZNAME:EDT
DTSTART:20270314T070000
END:DAYLIGHT
BEGIN:STANDARD
TZOFFSETFROM:-0400
TZOFFSETTO:-0500
TZNAME:EST
DTSTART:20271107T060000
END:STANDARD
END:VTIMEZONE
BEGIN:VEVENT
DTSTART;TZID=America/New_York:20260503T150000
DTEND;TZID=America/New_York:20260503T163000
DTSTAMP:20260423T053915
CREATED:20250530T164918Z
LAST-MODIFIED:20260319T135943Z
UID:10000143-1777820400-1777825800@www.wssymphony.org
SUMMARY:Beethoven Lives Upstairs
DESCRIPTION:Classical Kids Live:Beethoven Lives Upstairs\n\n\n\n\n\n\n\n\n\n\n Buy\n\n\n\n\n\n\nSundayMay 3\, 20263:00 PM \n\n\n\n\n\n\n\n\n\n\n\n\n\n\n\n\n\n\n\n\n\n\n\n\n\n\n\n\n\n\n\n\n\n\nWinston-Salem SymphonyClassical Kids Live Theatre CompanyMichelle Merrill Conductor \n\n\n\nGeared toward young audiences\, this world-famous production focuses on the “madman” who has moved into the upstairs apartment of teenage Christoph’s Vienna home. \n\n\n\nPreconcert activities at 2pm in the Brendle lobby and in Room 201\, just off the lobby. \n\n\n\n\n\n\n\n\n\n\n\n\n\n\n\n\n\n\n\n\n\nTHE MONTGOMERY/TUCKERCHARITABLE FUND \n\n\n\n\n\n\n\n\n\n\n\n\n\n\n\n\n\n\n\n\n\n\n\n\n\n\n\n\n\n\n\n\n\nSingle tickets to this event go on sale June 2\, but you can save your seat with a subscription! \n\n\n\n\n\n\n\n\n\n\n  Subscribe now.\n\n\n\n\n\n\n\n\n\n\n\n\n\n\n\n\n\n\n\n\n\n\n\n\n\n\nSundayMay 33:00 PM \n\n\n\n\n\n\n\n\n\n\n\n\n\n\n\n\n\n\n\n\n\n\nVenue\n\n\n\nBrendle Recital HallScale Fine Arts Center\, Wake Forest University2629 Wake Forest Rd.Winston-Salem\, NC 27109Parking available in campus lots adjacent to Scales Fine Arts Center on the north and east (across the street\, aside Wait Chapel) sides of the building. \n\n\n\n\nDirections & Parking\n\n\n\n\n\n\n\n\n\n\n\n\n\nRideshare and Dining
URL:https://www.wssymphony.org/event/beethoven-lives-upstairs/
LOCATION:Brendle Recital Hall\, 2629 Wake Forest Rd.\, Winston-Salem\, NC\, 27109
CATEGORIES:Family Concerts
ATTACH;FMTTYPE=image/webp:https://www.wssymphony.org/wp-content/uploads/2025/03/BeethovenThrowsPapers-copy.webp
GEO:36.134302;-80.2805279
X-APPLE-STRUCTURED-LOCATION;VALUE=URI;X-ADDRESS=Brendle Recital Hall 2629 Wake Forest Rd. Winston-Salem NC 27109;X-APPLE-RADIUS=500;X-TITLE=2629 Wake Forest Rd.:geo:-80.2805279,36.134302
END:VEVENT
END:VCALENDAR