BEGIN:VCALENDAR
VERSION:2.0
PRODID:-//Winston-Salem Symphony - ECPv6.15.20//NONSGML v1.0//EN
CALSCALE:GREGORIAN
METHOD:PUBLISH
X-ORIGINAL-URL:https://www.wssymphony.org
X-WR-CALDESC:Events for Winston-Salem Symphony
REFRESH-INTERVAL;VALUE=DURATION:PT1H
X-Robots-Tag:noindex
X-PUBLISHED-TTL:PT1H
BEGIN:VTIMEZONE
TZID:America/New_York
BEGIN:DAYLIGHT
TZOFFSETFROM:-0500
TZOFFSETTO:-0400
TZNAME:EDT
DTSTART:20230312T070000
END:DAYLIGHT
BEGIN:STANDARD
TZOFFSETFROM:-0400
TZOFFSETTO:-0500
TZNAME:EST
DTSTART:20231105T060000
END:STANDARD
BEGIN:DAYLIGHT
TZOFFSETFROM:-0500
TZOFFSETTO:-0400
TZNAME:EDT
DTSTART:20240310T070000
END:DAYLIGHT
BEGIN:STANDARD
TZOFFSETFROM:-0400
TZOFFSETTO:-0500
TZNAME:EST
DTSTART:20241103T060000
END:STANDARD
BEGIN:DAYLIGHT
TZOFFSETFROM:-0500
TZOFFSETTO:-0400
TZNAME:EDT
DTSTART:20250309T070000
END:DAYLIGHT
BEGIN:STANDARD
TZOFFSETFROM:-0400
TZOFFSETTO:-0500
TZNAME:EST
DTSTART:20251102T060000
END:STANDARD
BEGIN:DAYLIGHT
TZOFFSETFROM:-0500
TZOFFSETTO:-0400
TZNAME:EDT
DTSTART:20260308T070000
END:DAYLIGHT
BEGIN:STANDARD
TZOFFSETFROM:-0400
TZOFFSETTO:-0500
TZNAME:EST
DTSTART:20261101T060000
END:STANDARD
BEGIN:DAYLIGHT
TZOFFSETFROM:-0500
TZOFFSETTO:-0400
TZNAME:EDT
DTSTART:20270314T070000
END:DAYLIGHT
BEGIN:STANDARD
TZOFFSETFROM:-0400
TZOFFSETTO:-0500
TZNAME:EST
DTSTART:20271107T060000
END:STANDARD
END:VTIMEZONE
BEGIN:VEVENT
DTSTART;TZID=America/New_York:20260418T190000
DTEND;TZID=America/New_York:20260418T203000
DTSTAMP:20260423T054117
CREATED:20260122T153255Z
LAST-MODIFIED:20260129T184448Z
UID:10000173-1776538800-1776544200@www.wssymphony.org
SUMMARY:Carnival of Courage
DESCRIPTION:Triad Area Medical Orchestra: \n\n\n\nCarnival of Courage\n\n\n\n\n\n\n\nFree! \n\n\n\n\n\nSaturday\, Apr 187:00 PM \n\n\n\n\n\n\n\n\n\n\n\n\n\n\n\n\n\n\n\nTriad Area Medical OrchestraTimothy Heath ConductorNoma Mouna Soprano \n\n\n\nBerlioz Roman Carnival OvertureFlagello BravadoBeethoven Rondino in E-flat\, WoO 25Strauss\, Jr. Voices of SpringBeethoven Symphony No. 3 (Scherzo & Finale) \n\n\n\n\n\nHector Berlioz’s Roman Carnival\, with its beautiful English horn feature and its blustery\, fiery ending\, leads immediately into Gala Flagello’s 2023 wild and stirring Bravado. After a brief\, early Beethoven work for eight winds and a Viennese celebration of spring by Johann Strauss\, Jr.\, you’ll be enthralled with the lilting scherzo and triumphant finale of Beethoven’s “Heroic” Symphony No. 3. \n\n\n\nLearn more about TAMO’s mission and opportunities. \n\n\n\n\n\n\n\n\n\n\n\nVenue\n\n\n\nBrendle Recital HallWake Forest University1775 Wake Forest Rd.Winston-Salem\, NC 27109 \n\n\n\n\nDirections & Parking\n\n\n\n\n\n\n\n\n\n\n\n\n\nRideshare and Dining
URL:https://www.wssymphony.org/event/carnival-of-courage/
LOCATION:Brendle Recital Hall\, 2629 Wake Forest Rd.\, Winston-Salem\, NC\, 27109
CATEGORIES:Family Concerts,Special Concerts
ATTACH;FMTTYPE=image/jpeg:https://www.wssymphony.org/wp-content/uploads/2025/11/DSC_9505-scaled.jpg
GEO:36.134302;-80.2805279
X-APPLE-STRUCTURED-LOCATION;VALUE=URI;X-ADDRESS=Brendle Recital Hall 2629 Wake Forest Rd. Winston-Salem NC 27109;X-APPLE-RADIUS=500;X-TITLE=2629 Wake Forest Rd.:geo:-80.2805279,36.134302
END:VEVENT
BEGIN:VEVENT
DTSTART;TZID=America/New_York:20251123T150000
DTEND;TZID=America/New_York:20251123T163000
DTSTAMP:20260423T054117
CREATED:20251105T205527Z
LAST-MODIFIED:20251118T165558Z
UID:10000172-1763910000-1763915400@www.wssymphony.org
SUMMARY:Triumph & Tragedy
DESCRIPTION:Triumph & Tragedy\n\n\n\nTriad Area Medical OrchestraAn affiliate ensemble of the WINSTON SALEM SYMPHONY \n\n\n\n\n\n\n\nFree! \n\n\n\n\n\nSunday\, Nov 233:00 PM \n\n\n\n\n\n\n\n\n\n\n\n\n\n\n\n\n\n\n\nTriad Area Medical OrchestraTimothy Heath Conductor \n\n\n\nTchaikovsky March SlavTchaikovsky Selections from Swan LakeTchaikovsky Symphony No.4 \n\n\n\n\n\nIt’s an all-Tchaikovsky opener for TAMO! The Triad Area Medical Orchestra\, a volunteer organization and affiliate ensemble of the Winston-Salem Symphony\, is comprised of healthcare professionals from throughout our community who share a passion for orchestral music and performing. Enjoy their performance of Tchaikovsky’s March Slav\, beautiful and timeless music from his ballet Swan Lake\, and his energetic and fiery Symphony No. 4.  \n\n\n\nLearn more about TAMO’s mission and opportunities. \n\n\n\n\n\n\n\n\n\n\n\nVenue\n\n\n\nBrendle Recital HallWake Forest University1775 Wake Forest Rd.Winston-Salem\, NC 27109 \n\n\n\n\nDirections & Parking\n\n\n\n\n\n\n\n\n\n\n\n\n\nRideshare and Dining
URL:https://www.wssymphony.org/event/tamo-f2025/
LOCATION:Brendle Recital Hall\, 2629 Wake Forest Rd.\, Winston-Salem\, NC\, 27109
CATEGORIES:Family Concerts,Special Concerts
ATTACH;FMTTYPE=image/jpeg:https://www.wssymphony.org/wp-content/uploads/2025/11/DSC_9505-scaled.jpg
GEO:36.134302;-80.2805279
X-APPLE-STRUCTURED-LOCATION;VALUE=URI;X-ADDRESS=Brendle Recital Hall 2629 Wake Forest Rd. Winston-Salem NC 27109;X-APPLE-RADIUS=500;X-TITLE=2629 Wake Forest Rd.:geo:-80.2805279,36.134302
END:VEVENT
BEGIN:VEVENT
DTSTART;TZID=America/New_York:20251019T150000
DTEND;TZID=America/New_York:20251019T163000
DTSTAMP:20260423T054117
CREATED:20250602T153332Z
LAST-MODIFIED:20250929T140058Z
UID:10000121-1760886000-1760891400@www.wssymphony.org
SUMMARY:Halloween Spooktacular
DESCRIPTION:Halloween Spooktacular\n\n\n\n\n\n\n\n\n\n\n Buy\n\n\n\n\n\n\nSundayOct 19\, 20253:00 PM \n\n\n\n\n\n\n\n\n\n\n\n\n\n\n\n\n\n\n\n\n\n\n\n\n\n\n\n\n\n\n\n\n\n\nKids’ tickets just $10!Winston-Salem SymphonyMichelle Merrill ConductorWear your costumes! Friendly-spooky Halloween treats for the young and young at heart\, with maybe a few tricks for good measure. Howl to the music of John Williams from his scores to Harry Potter and the Star Wars saga. You’ll be bewitched by music from Wicked and Three Portraits of a Witch. And be creeeeeeped-out by the ghoulish sounds of music by classical composers Prokofiev\, Mussorgsky\, and Arturo Márquez. \n\n\n\n\n\nPreconcert lobby activities begin at 2:00pm with storytelling\, an instrument petting zoo\, and fun crafts from our friends at Kaleideum and the Sawtooth Center for Visual Art. \n\n\n\n\n\n\n\n\n\n\n\n\n\n\n\n\n\n\n\n\n\n\n\n\n\n\n\n\n\n\n\n\n\n\n\nTHE MONTGOMERY/TUCKERCHARITABLE FUND \n\n\n\n\n\n\n\n\n\n\n\n\n\n\n\n\n\n\n\n\n\n\n\n\n\n\n\n\n\n\n\n\n\n\n\n\n\n\n\nSingle tickets to this event go on sale June 2\, but you can save your seat with a subscription! \n\n\n\n\n\n\n\n\n\n\n  Subscribe now.\n\n\n\n\n\n\n\n\n\n\n\n\n\n\n\n\n\n\n\n\n\n\n\n\n\n\nSundayOct 193:00 PM \n\n\n\n\n\n\n\n\n\n\n\n\n\n\n\n\n\n\n\n\n\n\nVenue\n\n\n\nBrendle Recital HallScale Fine Arts Center\, Wake Forest University2629 Wake Forest Rd.Winston-Salem\, NC 27109Parking available in campus lots adjacent to Scales Fine Arts Center on the north and east (across the street\, aside Wait Chapel) sides of the building. \n\n\n\n\nDirections & Parking\n\n\n\n\n\n\n\n\n\n\n\n\n\nRideshare and Dining
URL:https://www.wssymphony.org/event/halloween-spooktacular/
LOCATION:Brendle Recital Hall\, 2629 Wake Forest Rd.\, Winston-Salem\, NC\, 27109
CATEGORIES:Family Concerts
ATTACH;FMTTYPE=image/webp:https://www.wssymphony.org/wp-content/uploads/2025/03/2025Jack_16x9.webp
GEO:36.134302;-80.2805279
X-APPLE-STRUCTURED-LOCATION;VALUE=URI;X-ADDRESS=Brendle Recital Hall 2629 Wake Forest Rd. Winston-Salem NC 27109;X-APPLE-RADIUS=500;X-TITLE=2629 Wake Forest Rd.:geo:-80.2805279,36.134302
END:VEVENT
BEGIN:VEVENT
DTSTART;TZID=America/New_York:20250504T150000
DTEND;TZID=America/New_York:20250504T163000
DTSTAMP:20260423T054117
CREATED:20250429T180242Z
LAST-MODIFIED:20250429T180314Z
UID:10000105-1746370800-1746376200@www.wssymphony.org
SUMMARY:Triad Area Medical Orchestra
DESCRIPTION:Triad Area Medical Orchestraan affiliate orchestra of the WINSTON SALEM SYMPHONY\n\n\n\n\n\n\n\n\n\n\nFree!\n\n\n\n\n\n\nSundayMay 4\, 20253 PM \n\n\n\n\n\n\n\n\n\n\n\n\n\n\n\n\n\n\n\n\n\n\n\n\n\n\n\n\n\n\n\n\n\n\nThe Triad Area Medical Orchestra (TAMO) is an affiliate ensemble of the Winston-Salem Symphony\, showcasing the talents of our local medical community and other dedicated volunteer musicians wanting a fun and creative outlet for their love of music.  \n\n\n\nThis is a free concert. No tickets required! \n\n\n\n\n\nTriad Area Medical OrchestraTim Heath Conductor \n\n\n\nHector Berlioz“Hungarian March” from The Damnation of Faust \n\n\n\nYukiko NishimuraWater Reflections \n\n\n\nLudwig van BeethovenEgmont Overture \n\n\n\nEdvard GriegNorwegian Dances\, Op. 35 \n\n\n\n\n\n\n\n\n\n\n\n\n\n\n\n\n\n\n\n\n\n\n\n\n\n\n\n\n\n\n\n\n\n\n\n\n\n\n\n\n\n\n\n\n\nSingle tickets to this event go on sale June 2\, but you can save your seat with a subscription! \n\n\n\n\n\n\n\n\n\n\n  Subscribe now.\n\n\n\n\n\n\n\n\n\n\n\n\n\n\n\n\n\n\n\n\n\n\n\n\n\n\nSaturdayMay 311:00 AM \n\n\n\n\n\n\n\n\n\n\n\n\n\n\n\n\n\n\n\n\n\n\nVenue\n\n\n\nBrendle Recital HallScale Fine Arts Center\, Wake Forest University2629 Wake Forest Rd.Winston-Salem\, NC 27109Parking available in campus lots adjacent to Scales Fine Arts Center (Lot Q) on the north and east (across the street\, aside Wait Chapel) sides of the building. \n\n\n\n\nDirections & Parking\n\n\n\n\n\n\n\n\n\n\n\n\n\nRideshare and Dining
URL:https://www.wssymphony.org/event/triad-area-medical-orchestra/
LOCATION:Brendle Recital Hall\, 2629 Wake Forest Rd.\, Winston-Salem\, NC\, 27109
ATTACH;FMTTYPE=image/webp:https://www.wssymphony.org/wp-content/uploads/2024/10/DSC_9524-copy.webp
GEO:36.134302;-80.2805279
X-APPLE-STRUCTURED-LOCATION;VALUE=URI;X-ADDRESS=Brendle Recital Hall 2629 Wake Forest Rd. Winston-Salem NC 27109;X-APPLE-RADIUS=500;X-TITLE=2629 Wake Forest Rd.:geo:-80.2805279,36.134302
END:VEVENT
BEGIN:VEVENT
DTSTART;TZID=America/New_York:20250503T110000
DTEND;TZID=America/New_York:20250503T110000
DTSTAMP:20260423T054117
CREATED:20241001T192518Z
LAST-MODIFIED:20250502T135652Z
UID:10000102-1746270000-1746270000@www.wssymphony.org
SUMMARY:Peter and The Wolf
DESCRIPTION:Peter & The Wolf\n\n\n\n\n\n\n\n\n\n\n Buy\n\n\n\n\n\n\nSaturdayMay 3\, 202511:00 AM \n\n\n\n\n\n\n\n\n\n\n\n\n\n\n\n\n\n\n\n\n\n\n\n\n\n\n\n\n\n\n\n\n\n\nSpend the morning with a young boy\, his grandfather\, and a meadow full of animal characters in Prokofiev’s time-honored family favorite\, Peter and The Wolf. Follow along as Peter\, humorous hunters\, and his animal friends give the wily wolf his just desserts. \n\n\n\nSpecial family pricing!Adults $10Children $7 \n\n\n\nPreconcert activities — including storytime\, mask-making\, coloring\, and an Instrument Petting Zoo! — at 10am in the Brendle lobby and in Room 201\, just off the lobby. \n\n\n\n\n\nWinston-Salem SymphonyMichelle Merrill ConductorReally Inventive Stuff Theatre Company \n\n\n\nLeopold Mozart“Toy” Symphony \n\n\n\nLeroy AndersonThe Waltzing Cat \n\n\n\nAnatoly LyadovThe Mosquito \n\n\n\nSergei ProkofievPeter and The Wolf  \n\n\n\n\n\n\n\n\n\n\n\n\n\n\n\n\n\nTHE MONTGOMERY/TUCKERCHARITABLE FUND \n\n\n\n\n\n\n\n\n\n\n\n\n\n\n\n\n\n\n\n\n\n\n\n\n\n\n\n\n\n\n\n\n\n\n\n\n\n\n\nSingle tickets to this event go on sale June 2\, but you can save your seat with a subscription! \n\n\n\n\n\n\n\n\n\n\n  Subscribe now.\n\n\n\n\n\n\n\n\n\n\n\n\n\n\n\n\n\n\n\n\n\n\n\n\n\n\nSaturdayMay 311:00 AM \n\n\n\n\n\n\n\n\n\n\n\n\n\n\n\n\n\n\n\n\n\n\nVenue\n\n\n\nBrendle Recital HallScale Fine Arts Center\, Wake Forest University2629 Wake Forest Rd.Winston-Salem\, NC 27109Parking available in campus lots adjacent to Scales Fine Arts Center on the north and east (across the street\, aside Wait Chapel) sides of the building. \n\n\n\n\nDirections & Parking\n\n\n\n\n\n\n\n\n\n\n\n\n\nRideshare and Dining\n\n\n\n\n\n\n\n\n\n\n\n\n\n\n\n\n\n\n\n\n\n\n\n\n\n\n\n\n\n\n\n\n\n\n\n\n\n\n\n\n\n\n\n\n\n\n\n\n\n\n\n\n\n\n\n\n\nReally Inventive Stuff\n\n\n\nIn 2005\, the creative team of Sara Valentine and Michael Boudewyns co-founded Really Inventive Stuff\, a production company creating playful\, theatrical programs for orchestra concerts for young audiences; it has since become one of the most popular presenters of its kind. \n\n\n\nReally Inventive Stuff’s productions are created with a core commitment to imaginative\, playful\, and entertaining storytelling while keeping the music in the spotlight. \n\n\n\nAcross North America they’ve performed with numerous orchestras\, including Philadelphia\, Detroit\, St. Louis\, Milwaukee\, Kansas City\, Indianapolis\, Seattle\, Winnipeg\, Richmond\, Missoula\, Regina\, Jacksonville\, Utah\, Annapolis\, Charlotte\, and the National Symphony Orchestra at the Kennedy Center. \n\n\n\nInternationally\, Sara narrated the Young Person’s Guide with the Singapore Symphony Orchestra in 2014 (Really Inventive Stuff’s Southeast Asia debut); Michael performed Tubby the Tuba with the Airedale Symphony Orchestra in Yorkshire\, England in 2018 (Really Inventive Stuff’s UK debut). \n\n\n\nIn January 2025\, they make their to Williamsburg Symphony Orchestra debut with fourteen concerts of Peter and the Wolf. \n\n\n\nIn February 2025\, they return to The Philadelphia Orchestra for a twelfth season with Peter and the Wolf. They also make their debut with the Dubuque Symphony Orchestra with Peter and the Wolf & Toy Symphony\, and the Omaha Symphony with Tubby the Tuba & Toy Symphony. \n\n\n\nIn March 2025\, Really Inventive Stuff returns to Southeast Asia to perform four concerts with the Singapore Symphony Orchesta with Peter and the Wolf & Toy Symphony\, plus make their Malaysian Philharmonic Orchestra debut with Toy Symphony\, Three Fun Fables & The Young Person’s Guide to the Orchestra. \n\n\n\nIn May 2025\, they make their debut with the Winston-Salem Symphony with Peter and the Wolf & Toy Symphony. \n\n\n\nIn June 2025\, they make their debut with the Colorado College Music Festival with Green Eggs and Ham & Toy Symphony. \n\n\n\nIn October 2025\, Really Inventive Stuff will make its European debut in Sweden with Peter and the Wolf as part of the Göteborg International Organ Festival. \n\n\n\nAlong with orchestra performances\, Michael and Sara are the hosts of a new YouTube series celebrating noteworthy people and their remarkable achievements: Taphotopia.com
URL:https://www.wssymphony.org/event/peter-and-the-wolf/
LOCATION:Brendle Recital Hall\, 2629 Wake Forest Rd.\, Winston-Salem\, NC\, 27109
CATEGORIES:Family Concerts
ATTACH;FMTTYPE=image/webp:https://www.wssymphony.org/wp-content/uploads/2024/10/PeterAI.webp
GEO:36.134302;-80.2805279
X-APPLE-STRUCTURED-LOCATION;VALUE=URI;X-ADDRESS=Brendle Recital Hall 2629 Wake Forest Rd. Winston-Salem NC 27109;X-APPLE-RADIUS=500;X-TITLE=2629 Wake Forest Rd.:geo:-80.2805279,36.134302
END:VEVENT
BEGIN:VEVENT
DTSTART;TZID=America/New_York:20241103T150000
DTEND;TZID=America/New_York:20241103T150000
DTSTAMP:20260423T054117
CREATED:20240725T124218Z
LAST-MODIFIED:20241025T194534Z
UID:10000053-1730646000-1730646000@www.wssymphony.org
SUMMARY:Light\, Love\, and Joy
DESCRIPTION:Light\, Love\, & JoyA Choral Kaleidoscope\n\n\n\n\n\n\n\n\n\n\n Buy\n\n\n\n\n\n\nSundayNov 3\, 20243:00 PM \n\n\n\n\n\n\n\n\n\n\n\n\n\n\n\n\n\n\n\n\n\n\n\n\n\n\n\n\n\n\nWinston-Salem Symphony ChorusWinston-Salem State University Singing RamsChristopher Gilliam ConductorD’Walla Simmons Burke ConductorVytautas MiškinisLight Mass \n\n\n\nAndré ThomasA Celebration of Love and Joy \n\n\n\n\n\n\n\n This concert is expected to last approximately one hour and 40 minutes with no intermission. Restrooms are located in the Brendle Recital Hall lobby. \n\n\n\n\n\nEnjoy two innovative choral settings of the mass—one in jazz\, one in gospel—as the Symphony Chorus is joined by the Singing Rams from Winston-Salem State University and an instrumental jazz trio to celebrate light\, love\, and joy through music. \n\n\n\n\n\n\n\n\n\n\n\n\n\n\n\n\n\n\n\n\n\n\n\n\n\n\n\n\n\n\n\n\n\n\n\n\n\n\n\n\n\nSingle tickets to this event go on sale June 2\, but you can save your seat with a subscription! \n\n\n\n\n\n\n\n\n\n\n  Subscribe now.\n\n\n\n\n\n\n\n\n\n\n\n\n\n\n\n\n\n\nSymphony Chorus:Light\, Love\, & Joy \n\n\n\n\n\n\n\n\n\n\n\n\n\n\n\n\n\nSundayNov 33:00 PM \n\n\n\n\n\n\n\n\n\n\n\n\n\n\n\n\n\n\n\n\n\n\n\n\n\n\nVenue\n\n\n\nBrendle Recital HallScales Fine Arts Center\, Wake Forest UniversityWinston-Salem\, NC  \n\n\n\n\nDirections & Parking\n\n\n\n\n\n\n\n\n\n\n\n\n\nRideshare and Dining\n\n\n\n\n\n\n\n\n\n\n\n\n\n\n\n\n\n\n\n\n\n\n\n\n\n\n\n\n\n\n\n\n\n\n\n\n\n\n\n\n\n\n\n\n\n\n\n\n\n\n\n\n\n\n\n\n\n\n\n\n\n\n\n\n\n\nChristopher GilliamSymphony Chorus Director\n\n\n\nA conductor praised for his “precision and clarity\,” and performances hailed as “enlightened\,” Christopher Gilliam is the Director of the Winston-Salem Symphony Chorus\, Director of Choral Activities at Wake Forest University\, and Director of Music at Highland Presbyterian Church in Winston-Salem. \n\n\n\n\nRead more.\n\n\n\n\n\n\n\n\n\n\n\n\n\n\n\n\n\n\nWinston-Salem Symphony Chorus\n\n\n\nThe Winston-Salem Symphony Chorus traces its beginnings to the 1940’s when there were three separate choral ensembles in Winston-Salem. The three ensembles merged in 1960 to the Singers’ Guild. In the years following their union\, the Singers’ Guild collaborated frequently with the Symphony\, and in the fall of 1971 merged with the Symphony to become known as the Winston-Salem Symphony Chorale. In 2018 the organization became known as the Winston-Salem Symphony Chorus.  \n\n\n\n\nRead more.\n\n\n\n\n\n\n\n\n\n\n\n\n\n\n\n\n\nOn Video\n\n\n\n\n\n\n\n\n\nSymphony Chorus members discuss their experiences in preparing Considering Matthew Shepard.\n\n\n\n\n\n\n\n\n\n\n\nComposer Craig Hella Johnson: The meaning behind the title “Considering Matthew Shepard”\n\n\n\n\n\n\n\n\n\n\n\n\n\n\n\nWhy Matthew Shepard’s story is relevant today \n\n\n\n\n\n\n\n\n\n\n\n\n\n\n\nHow performance and participation help a work evolve \n\n\n\n\n\n\n\n\n\n\n\n\n\n\n\nHow we can move forward during dark times \n\n\n\n\n\n\n\n\n\n\n\nProgram Note\n\n\n\n\n\nAmerican composer\, choral conductor\, and arranger\, Craig Hella (né Morris) Johnson was born on June 15\, 1962 in Crow Wing County\, MN. He and his sister adopted the middle name\, Hella\, after his ancestral village in Norway. He attended St. Olaf College\, where he studied piano and sang in the famous St. Olaf Choir. He continued his musical studies at Juilliard\, the University of Illinois at Urbana–Champaign\, and Yale University\, from which he received his Doctor of Musical Arts degree. Johnson has directed several choral ensembles\, including Texas State University\, the Houston Masterworks Chorus\, and the University of Texas Chorus. He founded the choral ensemble\, Conspirare\, at the University of Texas in 1991. In May 2013\, Johnson was named Music Director and Conductor of Vocal Arts Ensemble in Cincinnati\, Ohio. Considering Matthew Shepard is a “fusion oratorio” inspired by the brutal murder of the young gay man of the same name in Wyoming in 1998 and was commissioned by Conspirare in 2016. Johnson’s libretto was co-authored by Michael Dennis Browne. First performed in 2016\, Considering Matthew Shepard is scored for chorus\, solo voices\, cello\, piano\, violin\, clarinet\, double Bass\, viola\, guitar\, and percussion. \n\n\n\n\n\nThe savage beating and murder of Matthew Shepard in Laramie\, Wyoming in October 1998 was an unspeakably shocking event that shook the conscience of the nation. His loss has become an emblem how mindless\, as well as intentional hate has confronted\, and continues to confront the LGBTQ+ community. His mutilated body hanging on a fence\, discovered the next day by a fellow student at the University of Wyoming\, has also become a symbol. This\, of course\, is a reminder of the figure of Jesus on the Cross. How\, one might ask\, can anyone bring art as a means of addressing truth\, grief\, loss\, anger\, hate\, hope and redemption be woven into a fabric of music and words that can begin to do justice to the event that sparked its creation? \n\n\n\nCraig Hella Johnson\, himself a sensitive gay man\, felt compelled to try to find a way. By weaving together a wide range of poetic and soulful texts by poets including Hildegard of Bingen\, Lesléa Newman\, Michael Dennis Browne\, and Rumi\, Johnson created a work that has touched\, and continues to touch\, the souls—as well as pricking the conscience—of all who experience Considering Matthew Shepard. It is part elegy\, part Passion play\, part drama\, that at times gently\, and at times forcefully\, fashions a memorial that keeps the flame of Matthew Shepard’s life and death alive. Using passages from Matt’s personal journal\, interviews and writings from his parents Judy and Dennis Shepard\, newspaper reports\, as well as additional texts Johnson has created a musical tapestry that cannot fail but to touch our souls. \n\n\n\nProgram Note by David B. Levy\, © 2023 \n\n\n\n\n\n\n\n\n\n\n\nYou May Also Like…\n\n\n\n\n\n\n\n\n\n\nHandel‘s MESSIAH\n\n\n\nMichelle Merrill leads the  Symphony and Chorus in this holiday tradition: Handel’s oratorio tells music’s greatest message of faith. \n\n\n\n\nDec 12\, 2023\n\n\n\n\n\n\n\n\nTHE NINTH\n\n\n\nBeethoven’s glorious “Choral” symphony\, beloved for its Ode to Joy\, is paired with a recent Beethovenian piece by Carlos Simon. \n\n\n\n\nApr 13 & 14\, 2024
URL:https://www.wssymphony.org/event/light-love-joy/
LOCATION:Brendle Recital Hall\, 2629 Wake Forest Rd.\, Winston-Salem\, NC\, 27109
CATEGORIES:Special Concerts,Symphony Chorus
ATTACH;FMTTYPE=image/webp:https://www.wssymphony.org/wp-content/uploads/2024/07/ChorusNov3.webp
GEO:36.134302;-80.2805279
X-APPLE-STRUCTURED-LOCATION;VALUE=URI;X-ADDRESS=Brendle Recital Hall 2629 Wake Forest Rd. Winston-Salem NC 27109;X-APPLE-RADIUS=500;X-TITLE=2629 Wake Forest Rd.:geo:-80.2805279,36.134302
END:VEVENT
END:VCALENDAR